BEGIN:VCALENDAR
VERSION:2.0
PRODID:-//ChamberMaster//Event Calendar 2.0//EN
METHOD:PUBLISH
X-PUBLISHED-TTL:P3D
REFRESH-INTERVAL:P3D
CALSCALE:GREGORIAN
BEGIN:VEVENT
DTSTART:20190628T163000Z
DTEND:20190628T180000Z
X-MICROSOFT-CDO-ALLDAYEVENT:FALSE
SUMMARY:Lunch on the Plaza
DESCRIPTION:Sponsored by: Clive Lions Club\, Clive Historical Society\n\nMenu: Spaghetti\, salad\, rolls\, cookies\, water. sodas\, and treats on the tables\n\nMusic: Marilyn Jerome\n\nIn the event of impossible weather\, Lunch on the Plaza will be moved to the fire bays at Dymond Public Safety Center\, 8505 Harbach Boulevard\n\nLes & Sharon Aasheim
X-ALT-DESC;FMTTYPE=text/html:<p style="box-sizing: border-box\; font-family: museo-sans\, sans-serif\; margin: 0px 0px 14px\; font-size: 1.1em\; line-height: 1.8em\; color: rgb(51\, 51\, 51)\; background-color: rgb(255\, 255\, 255)\;">Sponsored by: Clive Lions Club\, Clive Historical Society</p>\n\n<p style="box-sizing: border-box\; font-family: museo-sans\, sans-serif\; margin: 0px 0px 14px\; font-size: 1.1em\; line-height: 1.8em\; color: rgb(51\, 51\, 51)\; background-color: rgb(255\, 255\, 255)\;">Menu: Spaghetti\, salad\, rolls\, cookies\, water. sodas\, and treats on the tables</p>\n\n<p style="box-sizing: border-box\; font-family: museo-sans\, sans-serif\; margin: 0px 0px 14px\; font-size: 1.1em\; line-height: 1.8em\; color: rgb(51\, 51\, 51)\; background-color: rgb(255\, 255\, 255)\;">Music: Marilyn Jerome</p>\n\n<p style="color: rgb(51\, 51\, 51)\; background-color: rgb(255\, 255\, 255)\; box-sizing: border-box\; font-family: museo-sans\, sans-serif\; margin: 0px 0px 14px\; font-size: 1.1em\; line-height: 1.8em\;">In the event of impossible weather\, Lunch on the Plaza will be moved to the fire bays at Dymond Public Safety Center\, 8505 Harbach Boulevard</p>\n\n<p style="box-sizing: border-box\; font-family: museo-sans\, sans-serif\; margin: 0px 0px 14px\; font-size: 1.1em\; line-height: 1.8em\; color: rgb(51\, 51\, 51)\; background-color: rgb(255\, 255\, 255)\;">Les &amp\; Sharon Aasheim</p>\n
LOCATION:Aasheim Plaza is located on the corner of NW 86th St. and University Blvd.
UID:e.2646.391
SEQUENCE:3
DTSTAMP:20260421T050657Z
URL:https://business.clivechamber.org/events/details/lunch-on-the-plaza-391
END:VEVENT

END:VCALENDAR
