BEGIN:VCALENDAR
VERSION:2.0
PRODID:-//ChamberMaster//Event Calendar 2.0//EN
METHOD:PUBLISH
X-PUBLISHED-TTL:P3D
REFRESH-INTERVAL:P3D
CALSCALE:GREGORIAN
BEGIN:VEVENT
DTSTART:20190927T163000Z
DTEND:20190927T180000Z
X-MICROSOFT-CDO-ALLDAYEVENT:FALSE
SUMMARY:Lunch on the Plaza sponsored by Bankers Trust
DESCRIPTION:Due to the weather forecast\, Lunch on the Plaza will be moved to the fire bays at Dymond Public Safety Center.\n\n\n\nSponsored by: Bankers Trust\n\nMenu: Walking Tacos\, Cookies\, Soda and Water\n\nMusic: 45 RPM\n\nLes & Sharon Aasheim
X-ALT-DESC;FMTTYPE=text/html:<p style="box-sizing: border-box\; font-family: museo-sans\, sans-serif\; margin: 0px 0px 14px\; font-size: 1.1em\; line-height: 1.8em\; color: rgb(51\, 51\, 51)\; background-color: rgb(255\, 255\, 255)\;"><span style="color:black\;"><span style="font-family:arial\,sans-serif\;">Due to the weather forecast\, Lunch on the Plaza will be moved to the fire bays at Dymond Public Safety Center.</span></span><br />\n<br />\nSponsored by: Bankers Trust</p>\n\n<p style="box-sizing: border-box\; font-family: museo-sans\, sans-serif\; margin: 0px 0px 14px\; font-size: 1.1em\; line-height: 1.8em\; color: rgb(51\, 51\, 51)\; background-color: rgb(255\, 255\, 255)\;">Menu: Walking Tacos\, Cookies\, Soda and Water</p>\n\n<p style="box-sizing: border-box\; font-family: museo-sans\, sans-serif\; margin: 0px 0px 14px\; font-size: 1.1em\; line-height: 1.8em\; color: rgb(51\, 51\, 51)\; background-color: rgb(255\, 255\, 255)\;">Music: 45 RPM</p>\n\n<p style="box-sizing: border-box\; font-family: museo-sans\, sans-serif\; margin: 0px 0px 14px\; font-size: 1.1em\; line-height: 1.8em\; color: rgb(51\, 51\, 51)\; background-color: rgb(255\, 255\, 255)\;">Les &amp\; Sharon Aasheim</p>\n
LOCATION:Dymond Public Safety Center
UID:e.2646.387
SEQUENCE:3
DTSTAMP:20260420T142948Z
URL:https://business.clivechamber.org/events/details/lunch-on-the-plaza-sponsored-by-bankers-trust-387
END:VEVENT

END:VCALENDAR
