BEGIN:VCALENDAR
VERSION:2.0
PRODID:-//ChamberMaster//Event Calendar 2.0//EN
METHOD:PUBLISH
X-PUBLISHED-TTL:P3D
REFRESH-INTERVAL:P3D
CALSCALE:GREGORIAN
BEGIN:VEVENT
DTSTART:20260513T210000Z
DTEND:20260514T010000Z
X-MICROSOFT-CDO-ALLDAYEVENT:FALSE
SUMMARY:MEMBER EVENT: Heartland Family Eyecare Open House
DESCRIPTION:Heartland Family Eyecare is hosting an open house to showcase their new patient offerings and clinical capabilities.\n\n\n\nDuring the event\, they will be offering exclusive\, discounted rates for the first 20 guests who sign up for their new dry eye treatment procedure. They will also be providing refreshments and offering tours for those who wish to see the clinic.
X-ALT-DESC;FMTTYPE=text/html:Heartland Family Eyecare is hosting an open house to showcase their new patient offerings and clinical capabilities.<br />\n<br />\nDuring the event\, they will be offering exclusive\, discounted rates for the first 20 guests who sign up for their new dry eye treatment procedure. They will also be providing refreshments and offering tours for those who wish to see the clinic.
LOCATION:Heartland Family Eyecare
UID:e.2646.1327
SEQUENCE:3
DTSTAMP:20260420T125143Z
URL:https://business.clivechamber.org/events/details/member-event-heartland-family-eyecare-open-house-1327
END:VEVENT

END:VCALENDAR
