BEGIN:VCALENDAR
VERSION:2.0
PRODID:-//ChamberMaster//Event Calendar 2.0//EN
METHOD:PUBLISH
X-PUBLISHED-TTL:P3D
REFRESH-INTERVAL:P3D
CALSCALE:GREGORIAN
BEGIN:VEVENT
DTSTART:20261105T173000Z
DTEND:20261105T190000Z
X-MICROSOFT-CDO-ALLDAYEVENT:FALSE
SUMMARY:Membership Luncheon presented by ServiceMaster by Rice
DESCRIPTION:At the Clive Chamber Membership Luncheon\, members come together to network\, enjoy lunch and listen to a speaker.\n\nTopic: TBD\n\nSpeaker: TBD
X-ALT-DESC;FMTTYPE=text/html:At the Clive Chamber Membership Luncheon\, members come together to network\, enjoy lunch and listen to a speaker.<br />\nTopic: TBD<br />\nSpeaker: TBD
LOCATION:TBD
UID:e.2646.1272
SEQUENCE:3
DTSTAMP:20260419T194901Z
URL:https://business.clivechamber.org/events/details/membership-luncheon-presented-by-servicemaster-by-rice-11-05-2026-1272
END:VEVENT

END:VCALENDAR
