BEGIN:VCALENDAR
VERSION:2.0
PRODID:-//ChamberMaster//Event Calendar 2.0//EN
METHOD:PUBLISH
X-PUBLISHED-TTL:P3D
REFRESH-INTERVAL:P3D
CALSCALE:GREGORIAN
BEGIN:VEVENT
DTSTART:20191023T223000Z
DTEND:20191023T233000Z
X-MICROSOFT-CDO-ALLDAYEVENT:FALSE
SUMMARY:MercyOne Cancer Education Series
DESCRIPTION:Becoming a Health Hacker The Art & Science of Sustainable Behavior Change\n\nTJ Anderson\, Author\, Coach\, and Founder of Elevate Your State\n\nMercyOne Des Moines Cancer Center offers a weekly educational series specifically for cancer patients and survivors to address cancer issues and their impact on various aspects of everyday living. Topics change weekly so check back with us often.
X-ALT-DESC;FMTTYPE=text/html:<p><span style="font-size:14px"><span style="font-family:arial\,helvetica\,sans-serif"><strong>Becoming a Health Hacker&mdash\;The Art &amp\; Science of Sustainable Behavior Change</strong></span></span></p>\n\n<p><span style="font-size:14px"><span style="font-family:arial\,helvetica\,sans-serif">TJ Anderson\, Author\, Coach\, and Founder of Elevate Your State</span></span></p>\n\n<p><span style="font-size:14px"><span style="font-family:arial\,helvetica\,sans-serif">MercyOne Des Moines Cancer Center offers a weekly educational series specifically for cancer patients and survivors to address cancer issues and their impact on various aspects of everyday living. Topics change weekly so check back with us often.</span></span></p>\n
LOCATION:MercyOne Health & Fitness Center\, Conference Room 4
UID:e.2646.433
SEQUENCE:3
DTSTAMP:20260420T130947Z
URL:https://business.clivechamber.org/events/details/mercyone-cancer-education-series-433
END:VEVENT

END:VCALENDAR
