BEGIN:VCALENDAR
VERSION:2.0
PRODID:-//ChamberMaster//Event Calendar 2.0//EN
METHOD:PUBLISH
X-PUBLISHED-TTL:P3D
REFRESH-INTERVAL:P3D
CALSCALE:GREGORIAN
BEGIN:VEVENT
DTSTART:20190611T210000Z
DTEND:20190612T000000Z
X-MICROSOFT-CDO-ALLDAYEVENT:FALSE
SUMMARY:MercyOne Clive Rehabilitation Hospital - Open House
DESCRIPTION:You're invited to attend an open house and community celebration for the one year anniversary on the opening of MercyOne Clive Rehabilitation Hospital!\n\nCome tour the therapy gym and meet our therapists who will be performing specialized therapy equipment demonstrations to learn how we're making a difference in the lives of rehabilitation patients throughout the state of Iowa.\n\nEnjoy ice cream trucks\, cookies and cupcakes.\n\nOutdoor games will be available in the outdoor courtyard\, as well as face painting for the kids.
X-ALT-DESC;FMTTYPE=text/html:<p style="box-sizing: border-box\; font-family: museo-sans\, sans-serif\; margin: 0px 0px 14px\; font-size: 1.1em\; line-height: 1.8em\; color: rgb(51\, 51\, 51)\; background-color: rgb(255\, 255\, 255)\;"><span style="font-size: 1.1em\;">You&rsquo\;re invited to attend an open house and community celebration for the one year anniversary on the opening of MercyOne Clive Rehabilitation Hospital!</span></p>\n\n<p style="box-sizing: border-box\; font-family: museo-sans\, sans-serif\; margin: 0px 0px 14px\; font-size: 1.1em\; line-height: 1.8em\; color: rgb(51\, 51\, 51)\; background-color: rgb(255\, 255\, 255)\;">Come tour the therapy gym and meet our therapists who will be performing specialized therapy equipment demonstrations to learn how we&rsquo\;re making a difference in the lives of rehabilitation patients throughout the state of Iowa.</p>\n\n<p style="box-sizing: border-box\; font-family: museo-sans\, sans-serif\; margin: 0px 0px 14px\; font-size: 1.1em\; line-height: 1.8em\; color: rgb(51\, 51\, 51)\; background-color: rgb(255\, 255\, 255)\;">Enjoy ice cream trucks\, cookies and cupcakes.<br style="box-sizing: border-box\;" />\nOutdoor games will be available in the outdoor courtyard\, as well as face painting for the kids.</p>\n
LOCATION:MercyOne Rehabilitation Hospital
UID:e.2646.21
SEQUENCE:3
DTSTAMP:20260421T010601Z
URL:https://business.clivechamber.org/events/details/mercyone-clive-rehabilitation-hospital-open-house-21
END:VEVENT

END:VCALENDAR
