BEGIN:VCALENDAR
VERSION:2.0
PRODID:-//ChamberMaster//Event Calendar 2.0//EN
METHOD:PUBLISH
X-PUBLISHED-TTL:P3D
REFRESH-INTERVAL:P3D
CALSCALE:GREGORIAN
BEGIN:VEVENT
DTSTART:20180412T120000Z
DTEND:20180412T143000Z
X-MICROSOFT-CDO-ALLDAYEVENT:FALSE
SUMMARY:Metro - Wide Mentoring for Women
DESCRIPTION:You could meet your mentor at\n\nMETRO-WIDE MENTORING FOR WOMEN\n\nThis joint event with the West Des Moines Chamber will offer attendees an opportunity to meet mentors\, women AND men\, who are influential in business and the community\, for fast and fun coaching sessions.\n\nThe morning's agenda: \n\n7-7:40  Registration\, networking and continental breakfast\n\n7:40-7:50 Welcome & sponsor introductions\n\n7:55 Explanation on how speed mentoring works!\n\n8:00 First table/mentoring discussion\n\n8:25 Transition to next table\n\n8:30 Second table/mentoring discussion\n\n8:55 Transition to next table\n\n9:00 Third table/mentoring discussion\n\n9:25 Final comments\n\n9:30 Adjourn
X-ALT-DESC;FMTTYPE=text/html:<p style="box-sizing: border-box\; font-family: museo-sans\, sans-serif\; margin: 0px 0px 14px\; font-size: 1.1em\; line-height: 1.8em\; color: rgb(51\, 51\, 51)\; background-color: rgb(255\, 255\, 255)\;">You could meet your mentor at<br style="box-sizing: border-box\;" />\n<strong style="box-sizing: border-box\;">METRO-WIDE MENTORING&nbsp\;</strong><strong style="box-sizing: border-box\;">FOR WOMEN</strong></p>\n\n<p style="box-sizing: border-box\; font-family: museo-sans\, sans-serif\; margin: 0px 0px 14px\; font-size: 1.1em\; line-height: 1.8em\; color: rgb(51\, 51\, 51)\; background-color: rgb(255\, 255\, 255)\;">This joint event with the West Des Moines Chamber will offer attendees an opportunity to meet mentors\, women AND men\, who are influential in business and the community\, for fast and fun coaching sessions.</p>\n\n<p style="box-sizing: border-box\; font-family: museo-sans\, sans-serif\; margin: 0px 0px 14px\; font-size: 1.1em\; line-height: 1.8em\; color: rgb(51\, 51\, 51)\; background-color: rgb(255\, 255\, 255)\;"><strong style="box-sizing: border-box\;">The morning&rsquo\;s agenda:&nbsp\;</strong></p>\n\n<p style="box-sizing: border-box\; font-family: museo-sans\, sans-serif\; margin: 0px 0px 14px\; font-size: 1.1em\; line-height: 1.8em\; color: rgb(51\, 51\, 51)\; background-color: rgb(255\, 255\, 255)\;"><strong style="box-sizing: border-box\;">7-7:40&nbsp\;</strong>&nbsp\;Registration\, networking and continental breakfast</p>\n\n<p style="box-sizing: border-box\; font-family: museo-sans\, sans-serif\; margin: 0px 0px 14px\; font-size: 1.1em\; line-height: 1.8em\; color: rgb(51\, 51\, 51)\; background-color: rgb(255\, 255\, 255)\;"><strong style="box-sizing: border-box\;">7:40-7:50</strong>&nbsp\;Welcome &amp\; sponsor introductions</p>\n\n<p style="box-sizing: border-box\; font-family: museo-sans\, sans-serif\; margin: 0px 0px 14px\; font-size: 1.1em\; line-height: 1.8em\; color: rgb(51\, 51\, 51)\; background-color: rgb(255\, 255\, 255)\;"><strong style="box-sizing: border-box\;">7:55</strong>&nbsp\;Explanation on how speed&nbsp\;mentoring works!</p>\n\n<p style="box-sizing: border-box\; font-family: museo-sans\, sans-serif\; margin: 0px 0px 14px\; font-size: 1.1em\; line-height: 1.8em\; color: rgb(51\, 51\, 51)\; background-color: rgb(255\, 255\, 255)\;"><strong style="box-sizing: border-box\;">8:00&nbsp\;</strong>First table/mentoring discussion</p>\n\n<p style="box-sizing: border-box\; font-family: museo-sans\, sans-serif\; margin: 0px 0px 14px\; font-size: 1.1em\; line-height: 1.8em\; color: rgb(51\, 51\, 51)\; background-color: rgb(255\, 255\, 255)\;"><strong style="box-sizing: border-box\;">8:25&nbsp\;</strong>Transition to next table</p>\n\n<p style="box-sizing: border-box\; font-family: museo-sans\, sans-serif\; margin: 0px 0px 14px\; font-size: 1.1em\; line-height: 1.8em\; color: rgb(51\, 51\, 51)\; background-color: rgb(255\, 255\, 255)\;"><strong style="box-sizing: border-box\;">8:30&nbsp\;</strong>Second table/mentoring discussion</p>\n\n<p style="box-sizing: border-box\; font-family: museo-sans\, sans-serif\; margin: 0px 0px 14px\; font-size: 1.1em\; line-height: 1.8em\; color: rgb(51\, 51\, 51)\; background-color: rgb(255\, 255\, 255)\;"><strong style="box-sizing: border-box\;">8:55&nbsp\;</strong>Transition to next table</p>\n\n<p style="box-sizing: border-box\; font-family: museo-sans\, sans-serif\; margin: 0px 0px 14px\; font-size: 1.1em\; line-height: 1.8em\; color: rgb(51\, 51\, 51)\; background-color: rgb(255\, 255\, 255)\;"><strong style="box-sizing: border-box\;">9:00&nbsp\;</strong>Third table/mentoring discussion</p>\n\n<p style="box-sizing: border-box\; font-family: museo-sans\, sans-serif\; margin: 0px 0px 14px\; font-size: 1.1em\; line-height: 1.8em\; color: rgb(51\, 51\, 51)\; background-color: rgb(255\, 255\, 255)\;"><strong style="box-sizing: border-box\;">9:25</strong>&nbsp\;Final comments</p>\n\n<p style="box-sizing: border-box\; font-family: museo-sans\, sans-serif\; margin: 0px 0px 14px\; font-size: 1.1em\; line-height: 1.8em\; color: rgb(51\, 51\, 51)\; background-color: rgb(255\, 255\, 255)\;"><strong style="box-sizing: border-box\;">9:30</strong>&nbsp\;Adjourn</p>\n
LOCATION:Des Moines Golf & Country Club
UID:e.2646.372
SEQUENCE:3
DTSTAMP:20260423T142146Z
URL:https://business.clivechamber.org/events/details/metro-wide-mentoring-for-women-372
END:VEVENT

END:VCALENDAR
