BEGIN:VCALENDAR
VERSION:2.0
PRODID:-//ChamberMaster//Event Calendar 2.0//EN
METHOD:PUBLISH
X-PUBLISHED-TTL:P3D
REFRESH-INTERVAL:P3D
CALSCALE:GREGORIAN
BEGIN:VEVENT
DTSTART:20180504T210000Z
DTEND:20180504T220000Z
X-MICROSOFT-CDO-ALLDAYEVENT:FALSE
SUMMARY:Ninja Hibachi and Sushi Ribbon Cutting
DESCRIPTION:Join us to celebrate the grand opening of Ninja Hibachi Express and Sushi in Clive with a Ribbon Cutting. Ceremony at 4:15 pm.\n\nLight Refreshments will be served.\n\n\nAbout Ninja Hibachi Express and Sushi:\n\nHibachi and Sushi cuisine with a New Orleans flare.
X-ALT-DESC;FMTTYPE=text/html:<p style="box-sizing: border-box\; font-family: museo-sans\, sans-serif\; margin: 0px 0px 14px\; font-size: 1.1em\; line-height: 1.8em\; color: rgb(51\, 51\, 51)\; background-color: rgb(255\, 255\, 255)\;">Join us to celebrate the grand opening of Ninja Hibachi Express and Sushi in Clive with a Ribbon Cutting. Ceremony at 4:15 pm.</p>\n\n<p style="box-sizing: border-box\; font-family: museo-sans\, sans-serif\; margin: 0px 0px 14px\; font-size: 1.1em\; line-height: 1.8em\; color: rgb(51\, 51\, 51)\; background-color: rgb(255\, 255\, 255)\;">Light Refreshments will be served.</p>\n\n<hr style="box-sizing: content-box\; font-family: museo-sans\, sans-serif\; height: 0px\; margin-top: 20px\; margin-bottom: 20px\; border-right: 0px\; border-bottom: 0px\; border-left: 0px\; border-image: initial\; border-top-style: solid\; border-top-color: rgb(238\, 238\, 238)\; color: rgb(51\, 51\, 51)\; font-size: 14px\; background-color: rgb(255\, 255\, 255)\;" />\n<p style="box-sizing: border-box\; font-family: museo-sans\, sans-serif\; margin: 0px 0px 14px\; font-size: 1.1em\; line-height: 1.8em\; color: rgb(51\, 51\, 51)\; background-color: rgb(255\, 255\, 255)\;">About Ninja Hibachi Express and Sushi:</p>\n\n<p style="box-sizing: border-box\; font-family: museo-sans\, sans-serif\; margin: 0px 0px 14px\; font-size: 1.1em\; line-height: 1.8em\; color: rgb(51\, 51\, 51)\; background-color: rgb(255\, 255\, 255)\;">Hibachi and Sushi cuisine with a New Orleans flare.</p>\n
LOCATION:Ninja Hibachi Express and Sushi
UID:e.2646.362
SEQUENCE:3
DTSTAMP:20260423T100405Z
URL:https://business.clivechamber.org/events/details/ninja-hibachi-and-sushi-ribbon-cutting-362
END:VEVENT

END:VCALENDAR
