BEGIN:VCALENDAR
VERSION:2.0
PRODID:-//ChamberMaster//Event Calendar 2.0//EN
METHOD:PUBLISH
X-PUBLISHED-TTL:P3D
REFRESH-INTERVAL:P3D
CALSCALE:GREGORIAN
BEGIN:VEVENT
DTSTART:20191011T210000Z
DTEND:20191011T230000Z
X-MICROSOFT-CDO-ALLDAYEVENT:FALSE
SUMMARY:Pally's Bar and Grille Ribbon Cutting
DESCRIPTION:Join us to celebrate the Grand Opening of Pally's Bar and Grille and to kick off Clive Restaurant Week. Ribbon Cutting ceremony at 4:30 PM.
X-ALT-DESC;FMTTYPE=text/html:<span style="color:#000000\;"><span style="font-size:14px\;"><span style="font-family:arial\;">Join us to celebrate the Grand Opening of Pally&#39\;s Bar and Grille and to kick off Clive Restaurant Week. Ribbon Cutting ceremony at 4:30 PM.</span></span></span>
LOCATION:Pally's Bar and Grill
UID:e.2646.425
SEQUENCE:3
DTSTAMP:20260420T131349Z
URL:https://business.clivechamber.org/events/details/pally-s-bar-and-grille-ribbon-cutting-425
END:VEVENT

END:VCALENDAR
