BEGIN:VCALENDAR
VERSION:2.0
PRODID:-//ChamberMaster//Event Calendar 2.0//EN
METHOD:PUBLISH
X-PUBLISHED-TTL:P3D
REFRESH-INTERVAL:P3D
CALSCALE:GREGORIAN
BEGIN:VEVENT
DTSTART:20190924T220000Z
DTEND:20190925T000000Z
X-MICROSOFT-CDO-ALLDAYEVENT:FALSE
SUMMARY:Premier Vision Clinic - One Year Anniversary Open House
DESCRIPTION:Join Premier Vision Clinic to celebrate their One Year Anniversary.\n\n\n\n25% OFF ALL Glasses the entire day!\n\n*excluding insurance\n\n\n\nWhats new in dry eye presentation at 6 PM and Complimentary dry eye screenings. \n\n15% OFF all dry eye services booked that day with 50% down\n\nBundtinis from Nothing Bundt Cakes\, Coffee from Caribou Coffee\, and light snacks.\n\nRSVP on our website at www.Premiervisionclinic.com or on Facebook to receive an extra raffle entry!\n\n\n\nRaffle Gift Baskets Include: \n\n\n\n"Spectacular Style"\n\nFree NW 77th Frame\n\nNW 77ths socks\n\nFunky Zebras Clive gift card\n\nLarge glasses cleaner and cloth\n\n \n\n"Treat Yourself"\n\nMibo eye heat mask\n\nBeautycounter eyecream\n\nMassage from Massage Envy\n\nBlue light filtering glasses (nonRx)\n\nRed Rosa gift card\n\n \n\n"Fun in the Sun"\n\nFree Invu polarized sunglasses\n\nBeautycounter sunscreen\n\nLarge glasses cleaner and cloth\n\nZmariks gift card\n\n \n\n"Kids are Cool"\n\nReal Kids unbreakable sunglasses\n\nReal Kids unbreakable blue light screen glasses\n\nFree vision screening\n\nFree Clarus screening for the family
X-ALT-DESC;FMTTYPE=text/html:<p>Join Premier Vision Clinic to celebrate their One Year Anniversary.<br />\n<br />\n25% OFF ALL Glasses the entire day!<br />\n*excluding insurance<br />\n<br />\nWhats new in dry eye presentation at 6 PM and <span style="background-color:rgb(255\, 255\, 255)\; color:rgb(51\, 51\, 51)\; font-family:sans-serif\,arial\,verdana\,trebuchet ms\; font-size:13px">Complimentary dry eye screenings.&nbsp\;</span><br />\n15% OFF all dry eye services booked that day with 50% down</p>\n\n<p>Bundtinis from Nothing Bundt Cakes\, Coffee from Caribou Coffee\, and light snacks.</p>\n\n<p>RSVP on our website at&nbsp\;<a href="http://www.Premiervisionclinic.com">www.Premiervisionclinic.com</a>&nbsp\;or on <a href="https://www.facebook.com/PremierVisionClinic/">Facebook</a> to receive an extra raffle entry!<br />\n<br />\nRaffle Gift Baskets Include:&nbsp\;<br />\n<br />\n&ldquo\;Spectacular Style&rdquo\;<br />\nFree NW 77th&nbsp\;Frame<br />\nNW 77ths socks<br />\nFunky Zebras Clive gift card<br />\nLarge glasses cleaner and cloth<br />\n&nbsp\;<br />\n&ldquo\;Treat Yourself&rdquo\;<br />\nMibo eye heat mask<br />\nBeautycounter eyecream<br />\nMassage from Massage Envy<br />\nBlue light filtering glasses (nonRx)<br />\nRed Rosa gift card<br />\n&nbsp\;<br />\n&ldquo\;Fun in the Sun&rdquo\;<br />\nFree Invu polarized sunglasses<br />\nBeautycounter sunscreen<br />\nLarge glasses cleaner and cloth<br />\nZmariks gift card<br />\n&nbsp\;<br />\n&ldquo\;Kids are Cool&rdquo\;<br />\nReal Kids unbreakable sunglasses<br />\nReal Kids unbreakable blue light screen glasses<br />\nFree vision screening<br />\nFree Clarus screening for the family</p>\n
LOCATION:Premier Vision Clinic
UID:e.2646.420
SEQUENCE:3
DTSTAMP:20260420T091452Z
URL:https://business.clivechamber.org/events/details/premier-vision-clinic-one-year-anniversary-open-house-420
END:VEVENT

END:VCALENDAR
