BEGIN:VCALENDAR
VERSION:2.0
PRODID:-//ChamberMaster//Event Calendar 2.0//EN
METHOD:PUBLISH
X-PUBLISHED-TTL:P3D
REFRESH-INTERVAL:P3D
CALSCALE:GREGORIAN
BEGIN:VEVENT
DTSTART:20190718T123000Z
DTEND:20190718T133000Z
X-MICROSOFT-CDO-ALLDAYEVENT:FALSE
SUMMARY:Regional Breakfast - Build Business Bonds at Breakfast
DESCRIPTION:We all know that breakfast fuels your body\, but what if it could fuel your business?  On Thursday\, July 18th\, Shive-Hattery is hosting the July Regional Networking Breakfast from 7:30 a.m. until 8:30 a.m. at 4125 Westown Parkway #100\, West Des Moines\, IA. Breakfast food and coffee will be provided. This is a great opportunity to meet other business leaders from the 24 Affiliate Chambers in the Central Iowa region. Make sure to bring your business cards\, and we'll set you up with a coffee date to expand your network.
X-ALT-DESC;FMTTYPE=text/html:<span style="color: rgb(68\, 68\, 68)\; font-family: Arial\, Helvetica\, sans-serif\; font-size: 14px\; background-color: rgb(255\, 255\, 255)\;">We all know that breakfast fuels your body\, but what if it could fuel your business?&nbsp\; On Thursday\, July 18</span><sup style="box-sizing: content-box\; margin: 0px\; padding: 0px\; border: none\; outline: 0px\; background: none rgb(255\, 255\, 255)\; text-size-adjust: 100%\; position: static\; height: auto\; line-height: normal\; bottom: auto\; clear: none\; color: rgb(68\, 68\, 68)\; content: normal\; direction: inherit\; display: inline\; empty-cells: show\; float: none\; font-variant-numeric: inherit\; font-variant-east-asian: inherit\; font-stretch: inherit\; font-family: Arial\, Helvetica\, sans-serif\; left: auto\; max-height: none\; max-width: none\; min-height: initial\; min-width: initial\; opacity: 1\; outline-offset: 0px\; overflow: visible\; resize: none\; right: auto\; table-layout: auto\; text-overflow: clip\; top: auto\; visibility: inherit\; word-break: inherit\; overflow-wrap: inherit\; z-index: auto\; border-collapse: separate\; border-radius: 0px\; width: auto\; box-shadow: none\;">th</sup><span style="color: rgb(68\, 68\, 68)\; font-family: Arial\, Helvetica\, sans-serif\; font-size: 14px\; background-color: rgb(255\, 255\, 255)\;">\, Shive-Hattery is hosting the July Regional Networking Breakfast from 7:30 a.m. until 8:30 a.m. at 4125 Westown Parkway #100\, West Des Moines\, IA. Breakfast food and coffee will be provided. This is a great opportunity to meet other business leaders from the 24 Affiliate Chambers in the Central Iowa region. Make sure to bring your business cards\, and we&rsquo\;ll set you up with a coffee date to expand your network.</span>
LOCATION:Shive-Hattery
UID:e.2646.392
SEQUENCE:3
DTSTAMP:20260421T005128Z
URL:https://business.clivechamber.org/events/details/regional-breakfast-build-business-bonds-at-breakfast-392
END:VEVENT

END:VCALENDAR
