BEGIN:VCALENDAR
VERSION:2.0
PRODID:-//ChamberMaster//Event Calendar 2.0//EN
METHOD:PUBLISH
X-PUBLISHED-TTL:P3D
REFRESH-INTERVAL:P3D
CALSCALE:GREGORIAN
BEGIN:VEVENT
DTSTART:20190920T210000Z
DTEND:20190920T220000Z
X-MICROSOFT-CDO-ALLDAYEVENT:FALSE
SUMMARY:Ribbon Cutting for Pinpoint Permanent Cosmetics
DESCRIPTION:Join us to celebrate the Grand Opening of Pinpoint Permanent Cosmetics with a ribbon cutting.\n\nOpen House 4 to 5 PM. Ribbon Cutting ceremony at 4:15 PM\n\nAbout Pinpoint Permanent Cosmetics:\n\nPinpoint Permanent Cosmetics has a wonderful team of experts who are certified to provide premium beauty services to women who want to enhance their natural beauty. From microblading to permanent makeup\, they offer high-quality treatments in a clean\, safe environment. They pride themselves on working with extraordinary precision to enhance your best features in a subtle way.
X-ALT-DESC;FMTTYPE=text/html:Join us to celebrate the Grand Opening of Pinpoint Permanent Cosmetics with a ribbon cutting.<br />\nOpen House 4 to 5 PM. Ribbon Cutting ceremony at 4:15 PM\n<hr style="box-sizing: content-box\; font-family: museo-sans\, sans-serif\; height: 0px\; margin-top: 1rem\; margin-bottom: 1rem\; border-right: 0px\; border-bottom: 0px\; border-left: 0px\; border-image: initial\; border-top-style: solid\; border-top-color: rgba(0\, 0\, 0\, 0.1)\; overflow: visible\; color: rgb(51\, 51\, 51)\; font-size: 15px\; background-color: rgb(255\, 255\, 255)\;" />\n<p style="box-sizing: border-box\; font-family: museo-sans\, sans-serif\; margin: 0px 0px 1rem\; font-size: 1.1em\; line-height: 1.8em\; color: rgb(51\, 51\, 51)\; background-color: rgb(255\, 255\, 255)\;">About Pinpoint Permanent Cosmetics:<br />\n<span style="color: rgb(51\, 51\, 51)\; background-color: rgb(255\, 255\, 255)\;">Pinpoint Permanent Cosmetics has a wonderful team of experts who are certified to provide premium beauty services to women who want to enhance their natural beauty. From microblading to permanent makeup\, they offer high-quality treatments in a clean\, safe environment. They pride themselves on working with extraordinary precision to enhance your best features in a subtle way.</span></p>\n
LOCATION:Pinpoint Permanent Cosmetics
UID:e.2646.416
SEQUENCE:3
DTSTAMP:20260420T134751Z
URL:https://business.clivechamber.org/events/details/ribbon-cutting-for-pinpoint-permanent-cosmetics-416
END:VEVENT

END:VCALENDAR
