BEGIN:VCALENDAR
VERSION:2.0
PRODID:-//ChamberMaster//Event Calendar 2.0//EN
METHOD:PUBLISH
X-PUBLISHED-TTL:P3D
REFRESH-INTERVAL:P3D
CALSCALE:GREGORIAN
BEGIN:VEVENT
DTSTART:20191023T163000Z
DTEND:20191023T180000Z
X-MICROSOFT-CDO-ALLDAYEVENT:FALSE
SUMMARY:Simulcast Lunch & Learn - Top Five Tips to Create Culture for Your Competitive Advantage
DESCRIPTION:The Clive Chamber will simulcast this live presentation.\n\nThis Top Five series will feature experts in human resources\, marketing\, accounting\, IT and others. They will introduce five things on certain topic that will help you be successful in your small business.\n\n\n\nIn this session you will learn:\n\n*How to define culture. What it is and what it is not.\n\n*Culture is your primary competitive advantage.\n\n*How to develop a culture.\n\n*The importance of culture and recruiting.\n\n*The role of the CEO/President.\n\n*How to maintain a culture.\n\n*Long term benefits.\n\n\n\nKurt Pearson is the founder of Compass Financial Services. Kurt grew up as a small-town farm boy near Knoxville\, Iowa. He attended UNI and graduated with a communications/business BA in 1983.\n\nAfter seven years in the financial publishing field\, Kurt moved to West Des Moines in 1990 with his wife Sandra and their four children.\n\n\n\nOver the past three decades Kurt has been involved with leading numerous groups. He has served on the West Des Moines Chamber Board and as president for the West Des Moines Development Corporation. The College for Financial Planning bestowed the CERTIFIED FINANCIAL PLANNER  designation to Kurt in 1994\, and in 1997 Kurt was accepted into the Greater Des Moines Leadership Institute.\n\n\n\nKurt is well-known in central Iowa for his regular appearances on KCCI-NewsChannel 8\, offering sound advice\, calm perspectives and reassuring insight on various financial topics over the past 22 years. Kurt is a pilgrim who enjoys writing and he published his first book\, Coram Deo in 2005. In recent days he has begun work on a second book which he hopes will present the depth and insightful perspectives of what he has learned from 22 years of listening to the wants\, needs\, desires\, stories and life lessons of people he has encountered in the financial industry.\n\nIn his spare time you can find Kurt doing a prairie grass burn\, hugging that special oak tree or introducing his grandchildren to the wonders of creation.
X-ALT-DESC;FMTTYPE=text/html:<p><strong>The Clive Chamber will simulcast this live presentation.</strong></p>\n\n<p><span style="box-sizing: content-box\; -webkit-tap-highlight-color: rgba(0\, 0\, 0\, 0)\; bottom: auto\; clear: none\; color: rgb(38\, 38\, 38)\; content: normal\; direction: inherit\; empty-cells: show\; font-variant-numeric: inherit\; font-variant-east-asian: inherit\; font-stretch: inherit\; font-size: 16px\; font-family: arial\; left: auto\; line-height: inherit\; margin: 0px\; max-height: none\; max-width: none\; min-height: initial\; min-width: initial\; opacity: 1\; outline-offset: 0px\; overflow: visible\; padding: 0in\; position: static\; resize: none\; right: auto\; table-layout: auto\; text-overflow: clip\; top: auto\; vertical-align: baseline\; visibility: inherit\; word-break: inherit\; overflow-wrap: inherit\; z-index: auto\; background: none rgb(255\, 255\, 255)\; border: 1pt none windowtext\; border-collapse: separate\; border-radius: 0px\; height: auto\; width: auto\; box-shadow: none\;">This Top Five series will feature experts in human resources\, marketing\, accounting\, IT and others. They will introduce five&nbsp\;things on certain topic that will help you be successful in your small business.</span><br style="box-sizing: content-box\; -webkit-tap-highlight-color: rgba(0\, 0\, 0\, 0)\; bottom: auto\; clear: none\; color: rgb(38\, 38\, 38)\; content: normal\; direction: inherit\; display: inline\; empty-cells: show\; float: none\; font-variant-numeric: inherit\; font-variant-east-asian: inherit\; font-stretch: inherit\; font-size: 16px\; font-family: arial\; left: auto\; line-height: inherit\; margin: 0px\; max-height: none\; max-width: none\; min-height: initial\; min-width: initial\; opacity: 1\; outline-offset: 0px\; overflow: visible\; padding: 0px\; position: static\; resize: none\; right: auto\; table-layout: auto\; text-overflow: clip\; top: auto\; vertical-align: baseline\; visibility: inherit\; word-break: inherit\; overflow-wrap: inherit\; z-index: auto\; background: none rgb(255\, 255\, 255)\; border: none\; border-collapse: separate\; border-radius: 0px\; height: auto\; width: auto\;" />\n<br style="box-sizing: content-box\; -webkit-tap-highlight-color: rgba(0\, 0\, 0\, 0)\; bottom: auto\; clear: none\; color: rgb(38\, 38\, 38)\; content: normal\; direction: inherit\; display: inline\; empty-cells: show\; float: none\; font-variant-numeric: inherit\; font-variant-east-asian: inherit\; font-stretch: inherit\; font-size: 16px\; font-family: arial\; left: auto\; line-height: inherit\; margin: 0px\; max-height: none\; max-width: none\; min-height: initial\; min-width: initial\; opacity: 1\; outline-offset: 0px\; overflow: visible\; padding: 0px\; position: static\; resize: none\; right: auto\; table-layout: auto\; text-overflow: clip\; top: auto\; vertical-align: baseline\; visibility: inherit\; word-break: inherit\; overflow-wrap: inherit\; z-index: auto\; background: none rgb(255\, 255\, 255)\; border: none\; border-collapse: separate\; border-radius: 0px\; height: auto\; width: auto\;" />\n<span style="color: rgb(38\, 38\, 38)\; font-family: arial\; font-size: 16px\; background-color: rgb(255\, 255\, 255)\;">In this session you will learn:</span><br style="box-sizing: content-box\; -webkit-tap-highlight-color: rgba(0\, 0\, 0\, 0)\; bottom: auto\; clear: none\; color: rgb(38\, 38\, 38)\; content: normal\; direction: inherit\; display: inline\; empty-cells: show\; float: none\; font-variant-numeric: inherit\; font-variant-east-asian: inherit\; font-stretch: inherit\; font-size: 16px\; font-family: arial\; left: auto\; line-height: inherit\; margin: 0px\; max-height: none\; max-width: none\; min-height: initial\; min-width: initial\; opacity: 1\; outline-offset: 0px\; overflow: visible\; padding: 0px\; position: static\; resize: none\; right: auto\; table-layout: auto\; text-overflow: clip\; top: auto\; vertical-align: baseline\; visibility: inherit\; word-break: inherit\; overflow-wrap: inherit\; z-index: auto\; background: none rgb(255\, 255\, 255)\; border: none\; border-collapse: separate\; border-radius: 0px\; height: auto\; width: auto\;" />\n<span style="color: rgb(38\, 38\, 38)\; font-family: arial\; font-size: 16px\; background-color: rgb(255\, 255\, 255)\;">*How to define culture. What it is and what it is not.</span><br style="box-sizing: content-box\; -webkit-tap-highlight-color: rgba(0\, 0\, 0\, 0)\; bottom: auto\; clear: none\; color: rgb(38\, 38\, 38)\; content: normal\; direction: inherit\; display: inline\; empty-cells: show\; float: none\; font-variant-numeric: inherit\; font-variant-east-asian: inherit\; font-stretch: inherit\; font-size: 16px\; font-family: arial\; left: auto\; line-height: inherit\; margin: 0px\; max-height: none\; max-width: none\; min-height: initial\; min-width: initial\; opacity: 1\; outline-offset: 0px\; overflow: visible\; padding: 0px\; position: static\; resize: none\; right: auto\; table-layout: auto\; text-overflow: clip\; top: auto\; vertical-align: baseline\; visibility: inherit\; word-break: inherit\; overflow-wrap: inherit\; z-index: auto\; background: none rgb(255\, 255\, 255)\; border: none\; border-collapse: separate\; border-radius: 0px\; height: auto\; width: auto\;" />\n<span style="color: rgb(38\, 38\, 38)\; font-family: arial\; font-size: 16px\; background-color: rgb(255\, 255\, 255)\;">*Culture is your primary competitive advantage.</span><br style="box-sizing: content-box\; -webkit-tap-highlight-color: rgba(0\, 0\, 0\, 0)\; bottom: auto\; clear: none\; color: rgb(38\, 38\, 38)\; content: normal\; direction: inherit\; display: inline\; empty-cells: show\; float: none\; font-variant-numeric: inherit\; font-variant-east-asian: inherit\; font-stretch: inherit\; font-size: 16px\; font-family: arial\; left: auto\; line-height: inherit\; margin: 0px\; max-height: none\; max-width: none\; min-height: initial\; min-width: initial\; opacity: 1\; outline-offset: 0px\; overflow: visible\; padding: 0px\; position: static\; resize: none\; right: auto\; table-layout: auto\; text-overflow: clip\; top: auto\; vertical-align: baseline\; visibility: inherit\; word-break: inherit\; overflow-wrap: inherit\; z-index: auto\; background: none rgb(255\, 255\, 255)\; border: none\; border-collapse: separate\; border-radius: 0px\; height: auto\; width: auto\;" />\n<span style="color: rgb(38\, 38\, 38)\; font-family: arial\; font-size: 16px\; background-color: rgb(255\, 255\, 255)\;">*How to develop a culture.</span><br style="box-sizing: content-box\; -webkit-tap-highlight-color: rgba(0\, 0\, 0\, 0)\; bottom: auto\; clear: none\; color: rgb(38\, 38\, 38)\; content: normal\; direction: inherit\; display: inline\; empty-cells: show\; float: none\; font-variant-numeric: inherit\; font-variant-east-asian: inherit\; font-stretch: inherit\; font-size: 16px\; font-family: arial\; left: auto\; line-height: inherit\; margin: 0px\; max-height: none\; max-width: none\; min-height: initial\; min-width: initial\; opacity: 1\; outline-offset: 0px\; overflow: visible\; padding: 0px\; position: static\; resize: none\; right: auto\; table-layout: auto\; text-overflow: clip\; top: auto\; vertical-align: baseline\; visibility: inherit\; word-break: inherit\; overflow-wrap: inherit\; z-index: auto\; background: none rgb(255\, 255\, 255)\; border: none\; border-collapse: separate\; border-radius: 0px\; height: auto\; width: auto\;" />\n<span style="color: rgb(38\, 38\, 38)\; font-family: arial\; font-size: 16px\; background-color: rgb(255\, 255\, 255)\;">*The importance of culture and recruiting.</span><br style="box-sizing: content-box\; -webkit-tap-highlight-color: rgba(0\, 0\, 0\, 0)\; bottom: auto\; clear: none\; color: rgb(38\, 38\, 38)\; content: normal\; direction: inherit\; display: inline\; empty-cells: show\; float: none\; font-variant-numeric: inherit\; font-variant-east-asian: inherit\; font-stretch: inherit\; font-size: 16px\; font-family: arial\; left: auto\; line-height: inherit\; margin: 0px\; max-height: none\; max-width: none\; min-height: initial\; min-width: initial\; opacity: 1\; outline-offset: 0px\; overflow: visible\; padding: 0px\; position: static\; resize: none\; right: auto\; table-layout: auto\; text-overflow: clip\; top: auto\; vertical-align: baseline\; visibility: inherit\; word-break: inherit\; overflow-wrap: inherit\; z-index: auto\; background: none rgb(255\, 255\, 255)\; border: none\; border-collapse: separate\; border-radius: 0px\; height: auto\; width: auto\;" />\n<span style="color: rgb(38\, 38\, 38)\; font-family: arial\; font-size: 16px\; background-color: rgb(255\, 255\, 255)\;">*The role of the CEO/President.</span><br style="box-sizing: content-box\; -webkit-tap-highlight-color: rgba(0\, 0\, 0\, 0)\; bottom: auto\; clear: none\; color: rgb(38\, 38\, 38)\; content: normal\; direction: inherit\; display: inline\; empty-cells: show\; float: none\; font-variant-numeric: inherit\; font-variant-east-asian: inherit\; font-stretch: inherit\; font-size: 16px\; font-family: arial\; left: auto\; line-height: inherit\; margin: 0px\; max-height: none\; max-width: none\; min-height: initial\; min-width: initial\; opacity: 1\; outline-offset: 0px\; overflow: visible\; padding: 0px\; position: static\; resize: none\; right: auto\; table-layout: auto\; text-overflow: clip\; top: auto\; vertical-align: baseline\; visibility: inherit\; word-break: inherit\; overflow-wrap: inherit\; z-index: auto\; background: none rgb(255\, 255\, 255)\; border: none\; border-collapse: separate\; border-radius: 0px\; height: auto\; width: auto\;" />\n<span style="color: rgb(38\, 38\, 38)\; font-family: arial\; font-size: 16px\; background-color: rgb(255\, 255\, 255)\;">*How to maintain a culture.</span><br style="box-sizing: content-box\; -webkit-tap-highlight-color: rgba(0\, 0\, 0\, 0)\; bottom: auto\; clear: none\; color: rgb(38\, 38\, 38)\; content: normal\; direction: inherit\; display: inline\; empty-cells: show\; float: none\; font-variant-numeric: inherit\; font-variant-east-asian: inherit\; font-stretch: inherit\; font-size: 16px\; font-family: arial\; left: auto\; line-height: inherit\; margin: 0px\; max-height: none\; max-width: none\; min-height: initial\; min-width: initial\; opacity: 1\; outline-offset: 0px\; overflow: visible\; padding: 0px\; position: static\; resize: none\; right: auto\; table-layout: auto\; text-overflow: clip\; top: auto\; vertical-align: baseline\; visibility: inherit\; word-break: inherit\; overflow-wrap: inherit\; z-index: auto\; background: none rgb(255\, 255\, 255)\; border: none\; border-collapse: separate\; border-radius: 0px\; height: auto\; width: auto\;" />\n<span style="color: rgb(38\, 38\, 38)\; font-family: arial\; font-size: 16px\; background-color: rgb(255\, 255\, 255)\;">*Long term benefits.</span><br style="box-sizing: content-box\; -webkit-tap-highlight-color: rgba(0\, 0\, 0\, 0)\; bottom: auto\; clear: none\; color: rgb(38\, 38\, 38)\; content: normal\; direction: inherit\; display: inline\; empty-cells: show\; float: none\; font-variant-numeric: inherit\; font-variant-east-asian: inherit\; font-stretch: inherit\; font-size: 16px\; font-family: arial\; left: auto\; line-height: inherit\; margin: 0px\; max-height: none\; max-width: none\; min-height: initial\; min-width: initial\; opacity: 1\; outline-offset: 0px\; overflow: visible\; padding: 0px\; position: static\; resize: none\; right: auto\; table-layout: auto\; text-overflow: clip\; top: auto\; vertical-align: baseline\; visibility: inherit\; word-break: inherit\; overflow-wrap: inherit\; z-index: auto\; background: none rgb(255\, 255\, 255)\; border: none\; border-collapse: separate\; border-radius: 0px\; height: auto\; width: auto\;" />\n<br style="box-sizing: content-box\; -webkit-tap-highlight-color: rgba(0\, 0\, 0\, 0)\; bottom: auto\; clear: none\; color: rgb(38\, 38\, 38)\; content: normal\; direction: inherit\; display: inline\; empty-cells: show\; float: none\; font-variant-numeric: inherit\; font-variant-east-asian: inherit\; font-stretch: inherit\; font-size: 16px\; font-family: arial\; left: auto\; line-height: inherit\; margin: 0px\; max-height: none\; max-width: none\; min-height: initial\; min-width: initial\; opacity: 1\; outline-offset: 0px\; overflow: visible\; padding: 0px\; position: static\; resize: none\; right: auto\; table-layout: auto\; text-overflow: clip\; top: auto\; vertical-align: baseline\; visibility: inherit\; word-break: inherit\; overflow-wrap: inherit\; z-index: auto\; background: none rgb(255\, 255\, 255)\; border: none\; border-collapse: separate\; border-radius: 0px\; height: auto\; width: auto\;" />\n<span style="color: rgb(38\, 38\, 38)\; font-family: arial\; font-size: 16px\; background-color: rgb(255\, 255\, 255)\;">Kurt Pearson is the founder of Compass Financial Services. Kurt grew up as a small-town farm boy near Knoxville\, Iowa. He attended UNI and graduated with a communications/business BA in 1983.</span><br style="box-sizing: content-box\; -webkit-tap-highlight-color: rgba(0\, 0\, 0\, 0)\; bottom: auto\; clear: none\; color: rgb(38\, 38\, 38)\; content: normal\; direction: inherit\; display: inline\; empty-cells: show\; float: none\; font-variant-numeric: inherit\; font-variant-east-asian: inherit\; font-stretch: inherit\; font-size: 16px\; font-family: arial\; left: auto\; line-height: inherit\; margin: 0px\; max-height: none\; max-width: none\; min-height: initial\; min-width: initial\; opacity: 1\; outline-offset: 0px\; overflow: visible\; padding: 0px\; position: static\; resize: none\; right: auto\; table-layout: auto\; text-overflow: clip\; top: auto\; vertical-align: baseline\; visibility: inherit\; word-break: inherit\; overflow-wrap: inherit\; z-index: auto\; background: none rgb(255\, 255\, 255)\; border: none\; border-collapse: separate\; border-radius: 0px\; height: auto\; width: auto\;" />\n<span style="color: rgb(38\, 38\, 38)\; font-family: arial\; font-size: 16px\; background-color: rgb(255\, 255\, 255)\;">After seven years in the financial publishing field\, Kurt moved to West Des Moines in 1990 with his wife Sandra and their four children.</span><br style="box-sizing: content-box\; -webkit-tap-highlight-color: rgba(0\, 0\, 0\, 0)\; bottom: auto\; clear: none\; color: rgb(38\, 38\, 38)\; content: normal\; direction: inherit\; display: inline\; empty-cells: show\; float: none\; font-variant-numeric: inherit\; font-variant-east-asian: inherit\; font-stretch: inherit\; font-size: 16px\; font-family: arial\; left: auto\; line-height: inherit\; margin: 0px\; max-height: none\; max-width: none\; min-height: initial\; min-width: initial\; opacity: 1\; outline-offset: 0px\; overflow: visible\; padding: 0px\; position: static\; resize: none\; right: auto\; table-layout: auto\; text-overflow: clip\; top: auto\; vertical-align: baseline\; visibility: inherit\; word-break: inherit\; overflow-wrap: inherit\; z-index: auto\; background: none rgb(255\, 255\, 255)\; border: none\; border-collapse: separate\; border-radius: 0px\; height: auto\; width: auto\;" />\n<br style="box-sizing: content-box\; -webkit-tap-highlight-color: rgba(0\, 0\, 0\, 0)\; bottom: auto\; clear: none\; color: rgb(38\, 38\, 38)\; content: normal\; direction: inherit\; display: inline\; empty-cells: show\; float: none\; font-variant-numeric: inherit\; font-variant-east-asian: inherit\; font-stretch: inherit\; font-size: 16px\; font-family: arial\; left: auto\; line-height: inherit\; margin: 0px\; max-height: none\; max-width: none\; min-height: initial\; min-width: initial\; opacity: 1\; outline-offset: 0px\; overflow: visible\; padding: 0px\; position: static\; resize: none\; right: auto\; table-layout: auto\; text-overflow: clip\; top: auto\; vertical-align: baseline\; visibility: inherit\; word-break: inherit\; overflow-wrap: inherit\; z-index: auto\; background: none rgb(255\, 255\, 255)\; border: none\; border-collapse: separate\; border-radius: 0px\; height: auto\; width: auto\;" />\n<span style="color: rgb(38\, 38\, 38)\; font-family: arial\; font-size: 16px\; background-color: rgb(255\, 255\, 255)\;">Over the past three decades Kurt has been involved with leading numerous groups. He has served on the West Des Moines Chamber Board and as president for the West Des Moines Development Corporation. The College for Financial Planning bestowed the CERTIFIED FINANCIAL PLANNER&trade\; designation to Kurt in 1994\, and in 1997 Kurt was accepted into the Greater Des Moines Leadership Institute.</span><br style="box-sizing: content-box\; -webkit-tap-highlight-color: rgba(0\, 0\, 0\, 0)\; bottom: auto\; clear: none\; color: rgb(38\, 38\, 38)\; content: normal\; direction: inherit\; display: inline\; empty-cells: show\; float: none\; font-variant-numeric: inherit\; font-variant-east-asian: inherit\; font-stretch: inherit\; font-size: 16px\; font-family: arial\; left: auto\; line-height: inherit\; margin: 0px\; max-height: none\; max-width: none\; min-height: initial\; min-width: initial\; opacity: 1\; outline-offset: 0px\; overflow: visible\; padding: 0px\; position: static\; resize: none\; right: auto\; table-layout: auto\; text-overflow: clip\; top: auto\; vertical-align: baseline\; visibility: inherit\; word-break: inherit\; overflow-wrap: inherit\; z-index: auto\; background: none rgb(255\, 255\, 255)\; border: none\; border-collapse: separate\; border-radius: 0px\; height: auto\; width: auto\;" />\n<br style="box-sizing: content-box\; -webkit-tap-highlight-color: rgba(0\, 0\, 0\, 0)\; bottom: auto\; clear: none\; color: rgb(38\, 38\, 38)\; content: normal\; direction: inherit\; display: inline\; empty-cells: show\; float: none\; font-variant-numeric: inherit\; font-variant-east-asian: inherit\; font-stretch: inherit\; font-size: 16px\; font-family: arial\; left: auto\; line-height: inherit\; margin: 0px\; max-height: none\; max-width: none\; min-height: initial\; min-width: initial\; opacity: 1\; outline-offset: 0px\; overflow: visible\; padding: 0px\; position: static\; resize: none\; right: auto\; table-layout: auto\; text-overflow: clip\; top: auto\; vertical-align: baseline\; visibility: inherit\; word-break: inherit\; overflow-wrap: inherit\; z-index: auto\; background: none rgb(255\, 255\, 255)\; border: none\; border-collapse: separate\; border-radius: 0px\; height: auto\; width: auto\;" />\n<span style="color: rgb(38\, 38\, 38)\; font-family: arial\; font-size: 16px\; background-color: rgb(255\, 255\, 255)\;">Kurt is well-known in central Iowa for his regular appearances on KCCI-NewsChannel 8\, offering sound advice\, calm perspectives and reassuring insight on various financial topics over the past 22 years. Kurt is a pilgrim who enjoys writing and he published his first book\, Coram Deo in 2005. In recent days he has begun work on a second book which he hopes will present the depth and insightful perspectives of what he has learned from 22 years of listening to the wants\, needs\, desires\, stories and life lessons of people he has encountered in the financial industry.</span><br style="box-sizing: content-box\; -webkit-tap-highlight-color: rgba(0\, 0\, 0\, 0)\; bottom: auto\; clear: none\; color: rgb(38\, 38\, 38)\; content: normal\; direction: inherit\; display: inline\; empty-cells: show\; float: none\; font-variant-numeric: inherit\; font-variant-east-asian: inherit\; font-stretch: inherit\; font-size: 16px\; font-family: arial\; left: auto\; line-height: inherit\; margin: 0px\; max-height: none\; max-width: none\; min-height: initial\; min-width: initial\; opacity: 1\; outline-offset: 0px\; overflow: visible\; padding: 0px\; position: static\; resize: none\; right: auto\; table-layout: auto\; text-overflow: clip\; top: auto\; vertical-align: baseline\; visibility: inherit\; word-break: inherit\; overflow-wrap: inherit\; z-index: auto\; background: none rgb(255\, 255\, 255)\; border: none\; border-collapse: separate\; border-radius: 0px\; height: auto\; width: auto\;" />\n<span style="color: rgb(38\, 38\, 38)\; font-family: arial\; font-size: 16px\; background-color: rgb(255\, 255\, 255)\;">In his spare time you can find Kurt doing a prairie grass burn\, hugging that special oak tree or introducing his grandchildren to the wonders of creation.</span></p>\n
LOCATION:Natural Grocers
UID:e.2646.415
SEQUENCE:3
DTSTAMP:20260420T082644Z
URL:https://business.clivechamber.org/events/details/simulcast-lunch-learn-top-five-tips-to-create-culture-for-your-competitive-advantage-415
END:VEVENT

END:VCALENDAR
