BEGIN:VCALENDAR
VERSION:2.0
PRODID:-//ChamberMaster//Event Calendar 2.0//EN
METHOD:PUBLISH
X-PUBLISHED-TTL:P3D
REFRESH-INTERVAL:P3D
CALSCALE:GREGORIAN
BEGIN:VEVENT
DTSTART:20190724T223000Z
DTEND:20190724T233000Z
X-MICROSOFT-CDO-ALLDAYEVENT:FALSE
SUMMARY:“The New Chemotherapy” – Expected Side Effects from Immunotherapy Treatments
DESCRIPTION:MercyOne Des Moines Cancer Center offers a weekly educational series specifically for cancer patients and survivors to address cancer issues and their impact on various aspects of everyday living. Topics change weekly so check back with us often.
X-ALT-DESC;FMTTYPE=text/html:<p class="Headline" style="line-height:114%"><span style="font-size:10.0pt\;\nline-height:114%\;color:windowtext\;font-weight:normal">MercyOne Des Moines Cancer Center offers a weekly educational series specifically for cancer patients and survivors to address cancer issues and their impact on various aspects of everyday living. Topics change weekly so check back with us often.<o:p></o:p></span></p>\n
LOCATION:MercyOne Health & Fitness Center\, Conference Room 4 12493 University Avenue\, Clive\, IA
UID:e.2646.404
SEQUENCE:3
DTSTAMP:20260421T010132Z
URL:https://business.clivechamber.org/events/details/the-new-chemotherapy-expected-side-effects-from-immunotherapy-treatments-404
END:VEVENT

END:VCALENDAR
