BEGIN:VCALENDAR
VERSION:2.0
PRODID:-//ChamberMaster//Event Calendar 2.0//EN
METHOD:PUBLISH
X-PUBLISHED-TTL:P3D
REFRESH-INTERVAL:P3D
CALSCALE:GREGORIAN
BEGIN:VEVENT
DTSTART:20180627T163000Z
DTEND:20180627T180000Z
X-MICROSOFT-CDO-ALLDAYEVENT:FALSE
SUMMARY:Top Five Policies to Have for Employees and Why They're Important
DESCRIPTION:The Partnership is proud to present a new series focused on issues small businesses face daily.  This top 5 series will feature experts in human resources\, marketing\, accounting\, IT and others.  They will introduce 5 things on certain topic that will help you be successful in your small business.\n\nTopic: Top 5 Policies to Have for Your Employees and Why They're Important\n\nIn this session participants will learn five critical policies to implement that help organizations define culture\, ensure compliance and add clarity to confusing employment practices.  In addition\, participants will learn a few bonus tips about statements that need to be removed or excluded from handbooks or policies to help the organization stay out of "hot water".\n\nScott Gire is the Director\, HR Operations with Aureon HR where he leads a team of HR professionals who consult with business leaders on the achievement of their strategic initiatives.  With over 20 years' experience in human resources and training in the service industry\, he truly understands the power of human capital management and the impact on business results.  His ability to select\, retain and motivate high-performing teams has led to his own personal success.  Scott has a degree in Business Management and Communication and is involved in the Society for Human Resource Management (SHRM) at both the local and national levels.  Scott holds both his Senior Professional in HR certification\, along with his SHRM Senior Certified Professional designation.\n\nThe Clive Chamber will simulcast this live presentation.
X-ALT-DESC;FMTTYPE=text/html:<p style="box-sizing: border-box\; font-family: museo-sans\, sans-serif\; margin: 0px 0px 14px\; font-size: 1.1em\; line-height: 1.8em\; color: rgb(51\, 51\, 51)\; background-color: rgb(255\, 255\, 255)\;">The Partnership is proud to present a new series focused on issues small businesses face daily. &nbsp\;This top 5 series will feature experts in human resources\, marketing\, accounting\, IT and others. &nbsp\;They will introduce 5 things on certain topic that will help you be successful in your small business.</p>\n\n<p style="box-sizing: border-box\; font-family: museo-sans\, sans-serif\; margin: 0px 0px 14px\; font-size: 1.1em\; line-height: 1.8em\; color: rgb(51\, 51\, 51)\; background-color: rgb(255\, 255\, 255)\;"><strong style="box-sizing: border-box\;">Topic: Top 5 Policies to Have for Your Employees and Why They&rsquo\;re Important</strong></p>\n\n<p style="box-sizing: border-box\; font-family: museo-sans\, sans-serif\; margin: 0px 0px 14px\; font-size: 1.1em\; line-height: 1.8em\; color: rgb(51\, 51\, 51)\; background-color: rgb(255\, 255\, 255)\;">In this session participants will learn five critical policies to implement that help organizations define culture\, ensure compliance and add clarity to confusing employment practices. &nbsp\;In addition\, participants will learn a few bonus tips about statements that need to be removed or excluded from handbooks or policies to help the organization stay out of &ldquo\;hot water&rdquo\;.</p>\n\n<p style="box-sizing: border-box\; font-family: museo-sans\, sans-serif\; margin: 0px 0px 14px\; font-size: 1.1em\; line-height: 1.8em\; color: rgb(51\, 51\, 51)\; background-color: rgb(255\, 255\, 255)\;">Scott Gire is the Director\, HR Operations with Aureon HR where he leads a team of HR professionals who consult with business leaders on the achievement of their strategic initiatives.&nbsp\; With over 20 years&rsquo\; experience in human resources and training in the service industry\, he truly understands the power of human capital management and the impact on business results.&nbsp\; His ability to select\, retain and motivate high-performing teams has led to his own personal success.&nbsp\;&nbsp\;Scott has a degree in Business Management and Communication and is involved in the Society for Human Resource Management (SHRM) at both the local and national levels.&nbsp\; Scott holds both his Senior Professional in HR certification\, along with his SHRM Senior Certified Professional designation.</p>\n\n<p style="box-sizing: border-box\; font-family: museo-sans\, sans-serif\; margin: 0px 0px 14px\; font-size: 1.1em\; line-height: 1.8em\; color: rgb(51\, 51\, 51)\; background-color: rgb(255\, 255\, 255)\;"><strong style="box-sizing: border-box\;">The Clive Chamber will simulcast this live presentation.</strong></p>\n
LOCATION:Natural Grocers
UID:e.2646.358
SEQUENCE:3
DTSTAMP:20260423T095029Z
URL:https://business.clivechamber.org/events/details/top-five-policies-to-have-for-employees-and-why-they-re-important-358
END:VEVENT

END:VCALENDAR
