BEGIN:VCALENDAR
VERSION:2.0
PRODID:-//ChamberMaster//Event Calendar 2.0//EN
METHOD:PUBLISH
X-PUBLISHED-TTL:P3D
REFRESH-INTERVAL:P3D
CALSCALE:GREGORIAN
BEGIN:VEVENT
DTSTART:20180523T163000Z
DTEND:20180523T180000Z
X-MICROSOFT-CDO-ALLDAYEVENT:FALSE
SUMMARY:Top Five Things for your Small Business Website
DESCRIPTION:The Partnership is proud to present a new series focused on issues small businesses face daily.  This top 5 series will feature experts in human resources\, marketing\, accounting\, IT and others.  They will introduce 5 things on certain topic that will help you be successful in your small business.\n\nTopic: Top 5 Things for Your Website and Changes to Consider on a Yearly Basis\n\nYour website is your digital storefront\, it's your client or customer's first impression of you\, it's a member of your sales team\, it's one of your most valuable marketing tools. It's not meant to just sit there on the internet collecting dust. The internet changes regularly\, as does your target audience and how they interact with websites. It's important to keep your website up-to-date with relevant information and current technology to continue to support your business goals. Learn some of the most important things to focus on to keep your website looking sharp and working hard.\n\nKatie Patterson founded Happy Medium with two guiding principles: honesty and transparency. With a strong background in media buying and account management\, Katie launched and bootstrapped Happy Medium after seeing a need for an authentic approach in the market. Since its inception in 2011\, the company has expanded to accommodate its ever-growing list of clients\, services and employees\, but its guiding principles have stayed at the center of all that Katie and Happy Medium do\, while simultaneously achieving more than 1\,000 percent revenue growth in just four years. Katie has been awarded the Iowa Women of Innovation's Rising Star\, Business Record's Best Up and Coming Business Leader\, and included in the annual Forty Under 40 class. Under her leadership\, Happy Medium was named to the Inc. 5000 list three years in a row. Katie has also been featured in Adweek\, Inc.\, American Express Open Forum\, The Des Moines Register\, Business Record and more.\n\nThe Clive Chamber will simulcast this live presentation.
X-ALT-DESC;FMTTYPE=text/html:<p style="box-sizing: border-box\; font-family: museo-sans\, sans-serif\; margin: 0px 0px 14px\; font-size: 1.1em\; line-height: 1.8em\; color: rgb(51\, 51\, 51)\; background-color: rgb(255\, 255\, 255)\;">The Partnership is proud to present a new series focused on issues small businesses face daily. &nbsp\;This top 5 series will feature experts in human resources\, marketing\, accounting\, IT and others. &nbsp\;They will introduce 5 things on certain topic that will help you be successful in your small business.</p>\n\n<p style="box-sizing: border-box\; font-family: museo-sans\, sans-serif\; margin: 0px 0px 14px\; font-size: 1.1em\; line-height: 1.8em\; color: rgb(51\, 51\, 51)\; background-color: rgb(255\, 255\, 255)\;"><strong style="box-sizing: border-box\;">Topic: Top 5 Things for Your Website and Changes to Consider on a Yearly Basis</strong></p>\n\n<p style="box-sizing: border-box\; font-family: museo-sans\, sans-serif\; margin: 0px 0px 14px\; font-size: 1.1em\; line-height: 1.8em\; color: rgb(51\, 51\, 51)\; background-color: rgb(255\, 255\, 255)\;">Your website is your digital storefront\, it&rsquo\;s your client or customer&rsquo\;s first impression of you\, it&rsquo\;s a member of your sales team\, it&rsquo\;s one of your most valuable marketing tools. It&rsquo\;s not meant to just sit there on the internet collecting dust. The internet changes regularly\, as does your target audience and how they interact with websites. It&rsquo\;s important to keep your website up-to-date with relevant information and current technology to continue to support your business goals. Learn some of the most important things to focus on to keep your website looking sharp and working hard.</p>\n\n<p style="box-sizing: border-box\; font-family: museo-sans\, sans-serif\; margin: 0px 0px 14px\; font-size: 1.1em\; line-height: 1.8em\; color: rgb(51\, 51\, 51)\; background-color: rgb(255\, 255\, 255)\;">Katie&nbsp\;Patterson founded Happy Medium with two guiding principles: honesty and transparency. With a strong background in media buying and account management\,&nbsp\;Katie&nbsp\;launched and bootstrapped Happy Medium after seeing a need for an authentic approach in the market. Since its inception in 2011\, the company has expanded to accommodate its ever-growing list of clients\, services and employees\, but its guiding principles have stayed at the center of all that&nbsp\;Katie&nbsp\;and Happy Medium do\, while simultaneously achieving more than 1\,000 percent revenue growth in just four years. Katie&nbsp\;has been awarded the Iowa Women of Innovation&rsquo\;s Rising Star\, Business Record&rsquo\;s Best Up and Coming Business Leader\, and included in the annual Forty Under 40 class. Under her leadership\, Happy Medium was named to the Inc. 5000 list three years in a row. Katie&nbsp\;has also been featured in Adweek\, Inc.\, American Express Open Forum\, The Des Moines Register\, Business Record and more.</p>\n\n<p style="box-sizing: border-box\; font-family: museo-sans\, sans-serif\; margin: 0px 0px 14px\; font-size: 1.1em\; line-height: 1.8em\; color: rgb(51\, 51\, 51)\; background-color: rgb(255\, 255\, 255)\;"><strong style="box-sizing: border-box\;">The Clive Chamber will simulcast this live presentation.</strong></p>\n
LOCATION:Natural Grocers
UID:e.2646.368
SEQUENCE:3
DTSTAMP:20260423T165802Z
URL:https://business.clivechamber.org/events/details/top-five-things-for-your-small-business-website-368
END:VEVENT

END:VCALENDAR
