BEGIN:VCALENDAR
VERSION:2.0
PRODID:-//ChamberMaster//Event Calendar 2.0//EN
METHOD:PUBLISH
X-PUBLISHED-TTL:P3D
REFRESH-INTERVAL:P3D
CALSCALE:GREGORIAN
BEGIN:VEVENT
DTSTART:20190425T210000Z
DTEND:20190425T220000Z
X-MICROSOFT-CDO-ALLDAYEVENT:FALSE
SUMMARY:Tree Planting in honor of Arbor Day
DESCRIPTION:Celebrate Arbor Day!\n\nThe City of Clive has asked us to help them plant trees along the trail just north of the Clive Aquatic Center in honor of Arbor Day.\n\nJoin us on Thursday\, April 25 from 4 to 5 pm.\n\nCome dressed appropriately for the weather. Closed toed shoes/boots\, long pants and gloves are recommended. All other needed supplies will be provided.\n\nFollowing the cleanup those interested will head to 515 Brewing for a refreshment.
X-ALT-DESC;FMTTYPE=text/html:<p style="box-sizing: border-box\; font-family: museo-sans\, sans-serif\; margin: 0px 0px 14px\; font-size: 1.1em\; line-height: 1.8em\; color: rgb(51\, 51\, 51)\; background-color: rgb(255\, 255\, 255)\;">Celebrate Arbor Day!</p>\n\n<p style="box-sizing: border-box\; font-family: museo-sans\, sans-serif\; margin: 0px 0px 14px\; font-size: 1.1em\; line-height: 1.8em\; color: rgb(51\, 51\, 51)\; background-color: rgb(255\, 255\, 255)\;">The City of Clive has asked us to help them plant trees along the trail just north of the Clive Aquatic Center in honor of Arbor Day.</p>\n\n<p style="box-sizing: border-box\; font-family: museo-sans\, sans-serif\; margin: 0px 0px 14px\; font-size: 1.1em\; line-height: 1.8em\; color: rgb(51\, 51\, 51)\; background-color: rgb(255\, 255\, 255)\;">Join us on Thursday\, April 25 from 4 to 5 pm.</p>\n\n<p style="box-sizing: border-box\; font-family: museo-sans\, sans-serif\; margin: 0px 0px 14px\; font-size: 1.1em\; line-height: 1.8em\; color: rgb(51\, 51\, 51)\; background-color: rgb(255\, 255\, 255)\;">Come dressed appropriately for the weather. Closed toed shoes/boots\, long pants and gloves are recommended. All other needed supplies will be provided.</p>\n\n<p style="box-sizing: border-box\; font-family: museo-sans\, sans-serif\; margin: 0px 0px 14px\; font-size: 1.1em\; line-height: 1.8em\; color: rgb(51\, 51\, 51)\; background-color: rgb(255\, 255\, 255)\;">Following the cleanup those interested will head to 515 Brewing for a refreshment.</p>\n
LOCATION:Clive Aquatic Center
UID:e.2646.314
SEQUENCE:3
DTSTAMP:20260421T102452Z
URL:https://business.clivechamber.org/events/details/tree-planting-in-honor-of-arbor-day-314
END:VEVENT

END:VCALENDAR
