BEGIN:VCALENDAR
VERSION:2.0
PRODID:-//ChamberMaster//Event Calendar 2.0//EN
METHOD:PUBLISH
X-PUBLISHED-TTL:P3D
REFRESH-INTERVAL:P3D
CALSCALE:GREGORIAN
BEGIN:VEVENT
DTSTART:20191023T213000Z
DTEND:20191023T223000Z
X-MICROSOFT-CDO-ALLDAYEVENT:FALSE
SUMMARY:UNWIND + DINE WITH PROFILE SANFORD
DESCRIPTION:Refocus the mind by UNWINDING with Restorative Yoga and Meditation with a Profile Coach.
X-ALT-DESC;FMTTYPE=text/html:Refocus the mind by UNWINDING with Restorative Yoga and Meditation with a Profile Coach.&nbsp\;&nbsp\;
LOCATION:Profile by Sanford
UID:e.2646.427
SEQUENCE:3
DTSTAMP:20260420T035726Z
URL:https://business.clivechamber.org/events/details/unwind-dine-with-profile-sanford-427
END:VEVENT

END:VCALENDAR
