BEGIN:VCALENDAR
VERSION:2.0
PRODID:-//ChamberMaster//Event Calendar 2.0//EN
METHOD:PUBLISH
X-PUBLISHED-TTL:P3D
REFRESH-INTERVAL:P3D
CALSCALE:GREGORIAN
BEGIN:VEVENT
DTSTART:20190821T223000Z
DTEND:20190821T233000Z
X-MICROSOFT-CDO-ALLDAYEVENT:FALSE
SUMMARY:What's the Deal with Plant-based Diets?: An Introduction to Plant-based Eating and Why It Is Important
DESCRIPTION:MercyOne Des Moines Cancer Center offers a weekly educational series specifically for cancer patients and survivors to address cancer issues and their impact on various aspects of everyday living. Topics change weekly so check back with us often.\n\n\n\nLyndi Buckingham-Schutt\, PhD\, RDN\, LD\n\nAssociate Director of Wellness and Nutrition Policy\n\nThe Harkin Institute for Public Policy & Citizen Engagement\, Drake University
X-ALT-DESC;FMTTYPE=text/html:<p class="Headline" style="line-height:114%"><span style="font-size:10.0pt\;\nline-height:114%\;color:windowtext\;font-weight:normal">MercyOne Des Moines Cancer Center offers a weekly educational series specifically for cancer patients and survivors to address cancer issues and their impact on various aspects of everyday living. Topics change weekly so check back with us often.</span><br />\n<br />\n<span style="color:black\;"><span style="font-size:11.0pt\;">Lyndi Buckingham-Schutt\, PhD\, RDN\, LD</span></span><br />\n<span style="color:black\;"><span style="font-size:11.0pt\;">Associate Director of Wellness and Nutrition Policy</span></span><br />\n<span style="color:black\;"><span style="font-size:11.0pt\;">The Harkin Institute for Public Policy &amp\; Citizen Engagement\, Drake University</span></span><br />\n<br />\n<span style="font-size:10.0pt\;\nline-height:114%\;color:windowtext\;font-weight:normal"><o:p></o:p></span></p>\n
LOCATION:MercyOne Health & Fitness Center\, Conference Room 4 12493 University Avenue\, Clive
UID:e.2646.408
SEQUENCE:3
DTSTAMP:20260420T143002Z
URL:https://business.clivechamber.org/events/details/what-s-the-deal-with-plant-based-diets-an-introduction-to-plant-based-eating-and-why-it-is-important-408
END:VEVENT

END:VCALENDAR
