BEGIN:VCALENDAR
VERSION:2.0
PRODID:-//ChamberMaster//Event Calendar 2.0//EN
METHOD:PUBLISH
X-PUBLISHED-TTL:P3D
REFRESH-INTERVAL:P3D
CALSCALE:GREGORIAN
BEGIN:VEVENT
DTSTART;VALUE=DATE:20190829
DTEND;VALUE=DATE:20190830
TRANSP:TRANSPARENT
X-MICROSOFT-CDO-ALLDAYEVENT:TRUE
SUMMARY:Wicked West Metro Chamber Golf Classic presented by Stivers Ford Lincoln
DESCRIPTION:The West Side Chamber golf outing joins the memberships of Clive\, West Des Moines and Urbandale Chambers in an action packed day on the course of Beaver Creek Golf Club. Both morning (7 AM) and afternoon (1 PM) shot-gun starts provide plenty of opportunity for over 350 golfers to enjoy the links and the camaraderie of fellow Chamber members. Sponsoring businesses from all three Chambers provide lively interaction at each hole. A catered lunch is included for all participants.\n\nFormat: 4-Person best ball\n\nNEW IN 2019! The theme of the event will be centered around Halloween. Golfers are welcome to dress up and will be asked to vote on their favorite hole sponsor presentation.
X-ALT-DESC;FMTTYPE=text/html:<p style="box-sizing: border-box\; font-family: museo-sans\, sans-serif\; margin: 0px 0px 14px\; font-size: 1.1em\; line-height: 1.8em\; color: rgb(51\, 51\, 51)\; background-color: rgb(255\, 255\, 255)\;">The West Side Chamber golf outing joins the memberships of&nbsp\;Clive\, West Des Moines and Urbandale Chambers in an action packed day on the course of Beaver Creek Golf Club. Both morning (7 AM)&nbsp\;and afternoon (1 PM) shot-gun starts provide plenty of opportunity for over 350 golfers to enjoy the links and the camaraderie of fellow Chamber members. Sponsoring businesses from all three Chambers provide lively interaction at each hole. A catered lunch is included for all participants.</p>\n\n<p style="box-sizing: border-box\; font-family: museo-sans\, sans-serif\; margin: 0px 0px 14px\; font-size: 1.1em\; line-height: 1.8em\; color: rgb(51\, 51\, 51)\; background-color: rgb(255\, 255\, 255)\;">Format:&nbsp\;<span style="box-sizing: border-box\; font-weight: 700\;">4-Person best ball</span></p>\n\n<p style="box-sizing: border-box\; font-family: museo-sans\, sans-serif\; margin: 0px 0px 14px\; font-size: 1.1em\; line-height: 1.8em\; color: rgb(51\, 51\, 51)\; background-color: rgb(255\, 255\, 255)\;">NEW IN 2019! The theme of the event will be centered around Halloween. Golfers are welcome to dress up and will be asked to vote on their favorite hole sponsor presentation.</p>\n
LOCATION:Beaver Creek Golf Club
UID:e.2646.286
SEQUENCE:3
DTSTAMP:20260420T194744Z
URL:https://business.clivechamber.org/events/details/wicked-west-metro-chamber-golf-classic-presented-by-stivers-ford-lincoln-286
END:VEVENT

END:VCALENDAR
