BEGIN:VCALENDAR
VERSION:2.0
PRODID:-//ChamberMaster//Event Calendar 2.0//EN
METHOD:PUBLISH
X-PUBLISHED-TTL:P3D
REFRESH-INTERVAL:P3D
CALSCALE:GREGORIAN
BEGIN:VEVENT
DTSTART:20190807T223000Z
DTEND:20190807T233000Z
X-MICROSOFT-CDO-ALLDAYEVENT:FALSE
SUMMARY:"You Have Cancer" - How to Develop a Treatment Plan
DESCRIPTION:MercyOne Des Moines Cancer Center offers a weekly educational series specifically for cancer patients and survivors to address cancer issues and their impact on various aspects of everyday living. Topics change weekly so check back with us often.\n\n\n\nRichard L. Deming\, MD\; Medical Director\, MercyOne Cancer Center\n\nFounder\, Above + Beyond Cancer
X-ALT-DESC;FMTTYPE=text/html:<p class="Headline" style="line-height:114%"><span style="font-size:10.0pt\;\nline-height:114%\;color:windowtext\;font-weight:normal">MercyOne Des Moines Cancer Center offers a weekly educational series specifically for cancer patients and survivors to address cancer issues and their impact on various aspects of everyday living. Topics change weekly so check back with us often.</span><br />\n<br />\n<span style="color:black\;"><span style="font-size:11.0pt\;">Richard L. Deming\, MD\; Medical Director\, MercyOne Cancer Center</span></span><br />\n<span style="color:black\;"><span style="font-size:11.0pt\;">Founder\, Above + Beyond Cancer</span></span><br />\n<br />\n<br />\n<span style="font-size:10.0pt\;\nline-height:114%\;color:windowtext\;font-weight:normal"><o:p></o:p></span></p>\n
LOCATION:MercyOne Health & Fitness Center\, Conference Room 4 12493 University Avenue\, Clive
UID:e.2646.406
SEQUENCE:3
DTSTAMP:20260420T193021Z
URL:https://business.clivechamber.org/events/details/you-have-cancer-how-to-develop-a-treatment-plan-406
END:VEVENT

END:VCALENDAR
